BEGIN:VCALENDAR
PRODID:-//github.com/rianjs/ical.net//NONSGML ical.net 4.0//EN
VERSION:2.0
BEGIN:VTIMEZONE
TZID:Central Standard Time
X-LIC-LOCATION:America/Chicago
BEGIN:STANDARD
DTSTART:20241103T020000
RRULE:FREQ=YEARLY;BYDAY=1SU;BYMONTH=11
TZNAME:CST
TZOFFSETFROM:-0500
TZOFFSETTO:-0600
END:STANDARD
BEGIN:DAYLIGHT
DTSTART:20250309T020000
RRULE:FREQ=YEARLY;BYDAY=2SU;BYMONTH=3
TZNAME:CDT
TZOFFSETFROM:-0600
TZOFFSETTO:-0500
END:DAYLIGHT
END:VTIMEZONE
BEGIN:VEVENT
DESCRIPTION:2026 Annual Meeting by the American Academy of Neurology\n\nTi
 tle: Brain Health in Action: Advancing Behavior Change Strategies Togethe
 r (Brain Health Hub)\n\nAccess URL: https://www.aan.com/msa/Public/Events
 /GetEventURL/22976\n\nLearn More About This Event: https://www.aan.com/ms
 a/Public/Events/Details/22976
DTEND;TZID=Central Standard Time:20260422T084500
DTSTAMP:20260424T021730Z
DTSTART;TZID=Central Standard Time:20260422T080000
LOCATION:McCormick Place West | W375c Lobby
SEQUENCE:0
SUMMARY:AAN: Brain Health in Action: Advancing Behavior Change Strategies 
 Together (Brain Health Hub)
UID:c539f469-47a4-4d8c-b174-5471a66171bb
END:VEVENT
END:VCALENDAR
