BEGIN:VCALENDAR
PRODID:-//github.com/rianjs/ical.net//NONSGML ical.net 4.0//EN
VERSION:2.0
BEGIN:VTIMEZONE
TZID:Central Standard Time
X-LIC-LOCATION:America/Chicago
BEGIN:STANDARD
DTSTART:20241103T020000
RRULE:FREQ=YEARLY;BYDAY=1SU;BYMONTH=11
TZNAME:CST
TZOFFSETFROM:-0500
TZOFFSETTO:-0600
END:STANDARD
BEGIN:DAYLIGHT
DTSTART:20250309T020000
RRULE:FREQ=YEARLY;BYDAY=2SU;BYMONTH=3
TZNAME:CDT
TZOFFSETFROM:-0600
TZOFFSETTO:-0500
END:DAYLIGHT
END:VTIMEZONE
BEGIN:VEVENT
DESCRIPTION:2026 Annual Meeting by the American Academy of Neurology\n\nTi
 tle:  Elevating Clinician Wellness Roundtable\n\nDescription: AAN committ
 ee and subcommittee chairs and vice chairs and other AAN leaders as we ga
 ther over breakfast to collaborate on the AAN’s Strategic Plan\, objectiv
 e 2.3\, to reduce burnout and increase AAN member wellness.\n\n- Hear dir
 ectly from our own nationally recognized experts on recent wellness and b
 urnout data\n- Real-world solutions\n- How you can bring evidence-based w
 ellness initiatives—not fluff—forward to your committees and subcommittee
 s.\n\n\nLearn More About This Event: https://www.aan.com/msa/Public/Event
 s/Details/22978
DTEND;TZID=Central Standard Time:20260419T170000
DTSTAMP:20260424T081358Z
DTSTART;TZID=Central Standard Time:20260419T150000
LOCATION:Marriott Marquis Chicago | Water Tower AB
SEQUENCE:0
SUMMARY:AAN:  Elevating Clinician Wellness Roundtable
UID:923d4030-fa0f-496d-b293-fef7a7995301
END:VEVENT
END:VCALENDAR
