BEGIN:VCALENDAR
PRODID:-//github.com/rianjs/ical.net//NONSGML ical.net 4.0//EN
VERSION:2.0
BEGIN:VTIMEZONE
TZID:Central Standard Time
X-LIC-LOCATION:America/Chicago
BEGIN:STANDARD
DTSTART:20241103T020000
RRULE:FREQ=YEARLY;BYDAY=1SU;BYMONTH=11
TZNAME:CST
TZOFFSETFROM:-0500
TZOFFSETTO:-0600
END:STANDARD
BEGIN:DAYLIGHT
DTSTART:20250309T020000
RRULE:FREQ=YEARLY;BYDAY=2SU;BYMONTH=3
TZNAME:CDT
TZOFFSETFROM:-0600
TZOFFSETTO:-0500
END:DAYLIGHT
END:VTIMEZONE
BEGIN:VEVENT
DESCRIPTION:2026 Annual Meeting by the American Academy of Neurology\n\nTi
 tle: Enhanced Resident Leadership Program Award Recognition\n\nDescriptio
 n: Award Recognition ceremony for program recipients\n\nLearn More About 
 This Event: https://www.aan.com/msa/Public/Events/Details/22984
DTEND;TZID=Central Standard Time:20260421T090000
DTSTAMP:20260424T022013Z
DTSTART;TZID=Central Standard Time:20260421T080000
LOCATION:Marriott Marquis Chicago | Literature
SEQUENCE:0
SUMMARY:AAN: Enhanced Resident Leadership Program Award Recognition
UID:bb3af84d-f334-4de3-9668-f94ceb6d027a
END:VEVENT
END:VCALENDAR
