BEGIN:VCALENDAR
PRODID:-//github.com/rianjs/ical.net//NONSGML ical.net 4.0//EN
VERSION:2.0
BEGIN:VTIMEZONE
TZID:Central Standard Time
X-LIC-LOCATION:America/Chicago
BEGIN:STANDARD
DTSTART:20241103T020000
RRULE:FREQ=YEARLY;BYDAY=1SU;BYMONTH=11
TZNAME:CST
TZOFFSETFROM:-0500
TZOFFSETTO:-0600
END:STANDARD
BEGIN:DAYLIGHT
DTSTART:20250309T020000
RRULE:FREQ=YEARLY;BYDAY=2SU;BYMONTH=3
TZNAME:CDT
TZOFFSETFROM:-0600
TZOFFSETTO:-0500
END:DAYLIGHT
END:VTIMEZONE
BEGIN:VEVENT
DESCRIPTION:2026 Annual Meeting by the American Academy of Neurology\n\nTi
 tle: Enhanced Resident Leadership Program Strengths Workshop\n\nDescripti
 on: Workshop with 2026 cohort and consultant\n\nLearn More About This Eve
 nt: https://www.aan.com/msa/Public/Events/Details/22987
DTEND;TZID=Central Standard Time:20260421T153000
DTSTAMP:20260424T072328Z
DTSTART;TZID=Central Standard Time:20260421T123000
LOCATION:Marriott Marquis Chicago |  History
SEQUENCE:0
SUMMARY:AAN: Enhanced Resident Leadership Program Strengths Workshop
UID:600a03d9-edcf-4330-882b-7b6f5ec3dcb5
END:VEVENT
END:VCALENDAR
