BEGIN:VCALENDAR
PRODID:-//github.com/rianjs/ical.net//NONSGML ical.net 4.0//EN
VERSION:2.0
BEGIN:VTIMEZONE
TZID:Central Standard Time
X-LIC-LOCATION:America/Chicago
BEGIN:STANDARD
DTSTART:20241103T020000
RRULE:FREQ=YEARLY;BYDAY=1SU;BYMONTH=11
TZNAME:CST
TZOFFSETFROM:-0500
TZOFFSETTO:-0600
END:STANDARD
BEGIN:DAYLIGHT
DTSTART:20250309T020000
RRULE:FREQ=YEARLY;BYDAY=2SU;BYMONTH=3
TZNAME:CDT
TZOFFSETFROM:-0600
TZOFFSETTO:-0500
END:DAYLIGHT
END:VTIMEZONE
BEGIN:VEVENT
DESCRIPTION:2026 Annual Meeting by the American Academy of Neurology\n\nTi
 tle: UCB PreConference Meeting\n\nDescription: Internal kick off meeting 
 for UCB staff \n\nLearn More About This Event: https://www.aan.com/msa/Pu
 blic/Events/Details/22989
DTEND;TZID=Central Standard Time:20260419T090000
DTSTAMP:20260423T213901Z
DTSTART;TZID=Central Standard Time:20260419T080000
LOCATION:https://www.aan.com/msa/Public/Events/GetEventURL/22989
SEQUENCE:0
SUMMARY:AAN: UCB PreConference Meeting
UID:14157bba-43d1-437d-bd6d-4df9a631db1f
END:VEVENT
END:VCALENDAR
