BEGIN:VCALENDAR
PRODID:-//github.com/rianjs/ical.net//NONSGML ical.net 4.0//EN
VERSION:2.0
BEGIN:VTIMEZONE
TZID:Central Standard Time
X-LIC-LOCATION:America/Chicago
BEGIN:STANDARD
DTSTART:20241103T020000
RRULE:FREQ=YEARLY;BYDAY=1SU;BYMONTH=11
TZNAME:CST
TZOFFSETFROM:-0500
TZOFFSETTO:-0600
END:STANDARD
BEGIN:DAYLIGHT
DTSTART:20250309T020000
RRULE:FREQ=YEARLY;BYDAY=2SU;BYMONTH=3
TZNAME:CDT
TZOFFSETFROM:-0600
TZOFFSETTO:-0500
END:DAYLIGHT
END:VTIMEZONE
BEGIN:VEVENT
DESCRIPTION:2026 Annual Meeting by the American Academy of Neurology\n\nTi
 tle: UCB Daily Debrief\n\nDescription: Internal Team Meeting\n\nLearn Mor
 e About This Event: https://www.aan.com/msa/Public/Events/Details/22991
DTEND;TZID=Central Standard Time:20260421T080000
DTSTAMP:20260423T215249Z
DTSTART;TZID=Central Standard Time:20260421T070000
LOCATION:https://www.aan.com/msa/Public/Events/GetEventURL/22991
SEQUENCE:0
SUMMARY:AAN: UCB Daily Debrief
UID:dc2ff0a8-f303-4f68-add0-c8d4071cb721
END:VEVENT
END:VCALENDAR
