BEGIN:VCALENDAR
PRODID:-//github.com/rianjs/ical.net//NONSGML ical.net 4.0//EN
VERSION:2.0
BEGIN:VTIMEZONE
TZID:Central Standard Time
X-LIC-LOCATION:America/Chicago
BEGIN:STANDARD
DTSTART:20241103T020000
RRULE:FREQ=YEARLY;BYDAY=1SU;BYMONTH=11
TZNAME:CST
TZOFFSETFROM:-0500
TZOFFSETTO:-0600
END:STANDARD
BEGIN:DAYLIGHT
DTSTART:20250309T020000
RRULE:FREQ=YEARLY;BYDAY=2SU;BYMONTH=3
TZNAME:CDT
TZOFFSETFROM:-0600
TZOFFSETTO:-0500
END:DAYLIGHT
END:VTIMEZONE
BEGIN:VEVENT
DESCRIPTION:2026 Annual Meeting by the American Academy of Neurology\n\nTi
 tle: RITE Panel Business Meeting\n\nDescription: This is the annual busin
 ess meeting for the RITE Panel.\n\nLearn More About This Event: https://w
 ww.aan.com/msa/Public/Events/Details/22995
DTEND;TZID=Central Standard Time:20260421T103000
DTSTAMP:20260424T085457Z
DTSTART;TZID=Central Standard Time:20260421T080000
LOCATION:Marriott Marquis Chicago | Journalism
SEQUENCE:0
SUMMARY:AAN: RITE Panel Business Meeting
UID:8e51a359-7f11-4a98-a7d6-4e55117dddc5
END:VEVENT
END:VCALENDAR
