BEGIN:VCALENDAR
PRODID:-//github.com/rianjs/ical.net//NONSGML ical.net 4.0//EN
VERSION:2.0
BEGIN:VTIMEZONE
TZID:Central Standard Time
X-LIC-LOCATION:America/Chicago
BEGIN:STANDARD
DTSTART:20241103T020000
RRULE:FREQ=YEARLY;BYDAY=1SU;BYMONTH=11
TZNAME:CST
TZOFFSETFROM:-0500
TZOFFSETTO:-0600
END:STANDARD
BEGIN:DAYLIGHT
DTSTART:20250309T020000
RRULE:FREQ=YEARLY;BYDAY=2SU;BYMONTH=3
TZNAME:CDT
TZOFFSETFROM:-0600
TZOFFSETTO:-0500
END:DAYLIGHT
END:VTIMEZONE
BEGIN:VEVENT
DESCRIPTION:2026 Annual Meeting by the American Academy of Neurology\n\nTi
 tle: Neurology Today 25th Anniversary Cookies for Talk\n\nDescription: Jo
 in Neurology Today® Editor Dr. Joseph Safdieh for a conversation on the p
 ublication’s latest trends\, priorities\, and initiatives. As Neurology T
 oday celebrates its 25th anniversary\, we’ll also look back at how the fi
 eld of neurology has evolved since the publication first launched.\n\nLea
 rn More About This Event: https://www.aan.com/msa/Public/Events/Details/2
 2996
DTEND;TZID=Central Standard Time:20260418T103000
DTSTAMP:20260424T021828Z
DTSTART;TZID=Central Standard Time:20260418T100000
LOCATION:https://www.aan.com/msa/Public/Events/GetEventURL/22996
SEQUENCE:0
SUMMARY:AAN: Neurology Today 25th Anniversary Cookies for Talk
UID:f1c44b39-4bfa-427a-8bee-9ba5699a63e5
END:VEVENT
END:VCALENDAR
