BEGIN:VCALENDAR
PRODID:-//github.com/rianjs/ical.net//NONSGML ical.net 4.0//EN
VERSION:2.0
BEGIN:VTIMEZONE
TZID:Central Standard Time
X-LIC-LOCATION:America/Chicago
BEGIN:STANDARD
DTSTART:20241103T020000
RRULE:FREQ=YEARLY;BYDAY=1SU;BYMONTH=11
TZNAME:CST
TZOFFSETFROM:-0500
TZOFFSETTO:-0600
END:STANDARD
BEGIN:DAYLIGHT
DTSTART:20250309T020000
RRULE:FREQ=YEARLY;BYDAY=2SU;BYMONTH=3
TZNAME:CDT
TZOFFSETFROM:-0600
TZOFFSETTO:-0500
END:DAYLIGHT
END:VTIMEZONE
BEGIN:VEVENT
DESCRIPTION:2026 Annual Meeting by the American Academy of Neurology\n\nTi
 tle: Guidelines Subcommittee Resource Room Day 2 of 3\n\nDescription: Off
 ice space for Guidelines Subcommittee members to do GS work during the An
 nual meeting.\n\nLearn More About This Event: https://www.aan.com/msa/Pub
 lic/Events/Details/22997
DTEND;TZID=Central Standard Time:20260420T170000
DTSTAMP:20260424T021935Z
DTSTART;TZID=Central Standard Time:20260420T073000
LOCATION:https://www.aan.com/msa/Public/Events/GetEventURL/22997
SEQUENCE:0
SUMMARY:AAN: Guidelines Subcommittee Resource Room Day 2 of 3
UID:aa941f5d-a7e3-4db9-901d-0270335e808a
END:VEVENT
END:VCALENDAR
