BEGIN:VCALENDAR
PRODID:-//github.com/rianjs/ical.net//NONSGML ical.net 4.0//EN
VERSION:2.0
BEGIN:VTIMEZONE
TZID:Central Standard Time
X-LIC-LOCATION:America/Chicago
BEGIN:STANDARD
DTSTART:20241103T020000
RRULE:FREQ=YEARLY;BYDAY=1SU;BYMONTH=11
TZNAME:CST
TZOFFSETFROM:-0500
TZOFFSETTO:-0600
END:STANDARD
BEGIN:DAYLIGHT
DTSTART:20250309T020000
RRULE:FREQ=YEARLY;BYDAY=2SU;BYMONTH=3
TZNAME:CDT
TZOFFSETFROM:-0600
TZOFFSETTO:-0500
END:DAYLIGHT
END:VTIMEZONE
BEGIN:VEVENT
DESCRIPTION:2026 Annual Meeting by the American Academy of Neurology\n\nTi
 tle: Subspecialty Summit\n\nDescription: Summit for Neurology Subspecialt
 y Society leaders and AAN leaders to discuss all things neurology.\n\nLea
 rn More About This Event: https://www.aan.com/msa/Public/Events/Details/2
 3000
DTEND;TZID=Central Standard Time:20260419T143000
DTSTAMP:20260424T123740Z
DTSTART;TZID=Central Standard Time:20260419T120000
LOCATION:Hyatt Regency McCormick Place Chicago | Regency CD
SEQUENCE:0
SUMMARY:AAN: Subspecialty Summit
UID:263a2d0a-4065-49fe-96a8-8a334813b187
END:VEVENT
END:VCALENDAR
