BEGIN:VCALENDAR
PRODID:-//github.com/rianjs/ical.net//NONSGML ical.net 4.0//EN
VERSION:2.0
BEGIN:VTIMEZONE
TZID:Central Standard Time
X-LIC-LOCATION:America/Chicago
BEGIN:STANDARD
DTSTART:20241103T020000
RRULE:FREQ=YEARLY;BYDAY=1SU;BYMONTH=11
TZNAME:CST
TZOFFSETFROM:-0500
TZOFFSETTO:-0600
END:STANDARD
BEGIN:DAYLIGHT
DTSTART:20250309T020000
RRULE:FREQ=YEARLY;BYDAY=2SU;BYMONTH=3
TZNAME:CDT
TZOFFSETFROM:-0600
TZOFFSETTO:-0500
END:DAYLIGHT
END:VTIMEZONE
BEGIN:VEVENT
DESCRIPTION:2026 Annual Meeting by the American Academy of Neurology\n\nTi
 tle: QOD Work Group Business Meeting\n\nDescription: This is the annual b
 usiness meeting for the QOD Work Group.\n\nLearn More About This Event: h
 ttps://www.aan.com/msa/Public/Events/Details/23004
DTEND;TZID=Central Standard Time:20260420T103000
DTSTAMP:20260423T213553Z
DTSTART;TZID=Central Standard Time:20260420T093000
LOCATION:McCormick Place West | W192b
SEQUENCE:0
SUMMARY:AAN: QOD Work Group Business Meeting
UID:a100a71d-fbf6-4de5-b286-9815ca47173f
END:VEVENT
END:VCALENDAR
