BEGIN:VCALENDAR
PRODID:-//github.com/rianjs/ical.net//NONSGML ical.net 4.0//EN
VERSION:2.0
BEGIN:VTIMEZONE
TZID:Central Standard Time
X-LIC-LOCATION:America/Chicago
BEGIN:STANDARD
DTSTART:20241103T020000
RRULE:FREQ=YEARLY;BYDAY=1SU;BYMONTH=11
TZNAME:CST
TZOFFSETFROM:-0500
TZOFFSETTO:-0600
END:STANDARD
BEGIN:DAYLIGHT
DTSTART:20250309T020000
RRULE:FREQ=YEARLY;BYDAY=2SU;BYMONTH=3
TZNAME:CDT
TZOFFSETFROM:-0600
TZOFFSETTO:-0500
END:DAYLIGHT
END:VTIMEZONE
BEGIN:VEVENT
DESCRIPTION:2026 Annual Meeting by the American Academy of Neurology\n\nTi
 tle: KESIMPTA Marketing Strategy Ad Board\n\nDescription: KESIMPTA Market
 ing Strategy Ad Board\n\nLearn More About This Event: https://www.aan.com
 /msa/Public/Events/Details/23009
DTEND;TZID=Central Standard Time:20260417T170000
DTSTAMP:20260424T021731Z
DTSTART;TZID=Central Standard Time:20260417T070000
LOCATION:Chicago Marriott Downtown Magnificent Mile | Assigned by hotel
SEQUENCE:0
SUMMARY:AAN: KESIMPTA Marketing Strategy Ad Board
UID:c6b36e5f-b1e8-42ee-9db9-9fbd9f38dfee
END:VEVENT
END:VCALENDAR
