BEGIN:VCALENDAR
PRODID:-//github.com/rianjs/ical.net//NONSGML ical.net 4.0//EN
VERSION:2.0
BEGIN:VTIMEZONE
TZID:Central Standard Time
X-LIC-LOCATION:America/Chicago
BEGIN:STANDARD
DTSTART:20241103T020000
RRULE:FREQ=YEARLY;BYDAY=1SU;BYMONTH=11
TZNAME:CST
TZOFFSETFROM:-0500
TZOFFSETTO:-0600
END:STANDARD
BEGIN:DAYLIGHT
DTSTART:20250309T020000
RRULE:FREQ=YEARLY;BYDAY=2SU;BYMONTH=3
TZNAME:CDT
TZOFFSETFROM:-0600
TZOFFSETTO:-0500
END:DAYLIGHT
END:VTIMEZONE
BEGIN:VEVENT
DESCRIPTION:2026 Annual Meeting by the American Academy of Neurology\n\nTi
 tle: Neurelis Meeting\n\nDescription: Meeting with HCPs.\n\nLearn More Ab
 out This Event: https://www.aan.com/msa/Public/Events/Details/23012
DTEND;TZID=Central Standard Time;VALUE=DATE:20260421
DTSTAMP:20260423T213441Z
DTSTART;TZID=Central Standard Time;VALUE=DATE:20260419
LOCATION:Home2 Suites by Hilton Chicago McCormick Place | Assigned by hotel
SEQUENCE:0
SUMMARY:AAN: Neurelis Meeting
UID:2660b57f-2a86-4f05-84fd-8a2c94f412d9
END:VEVENT
END:VCALENDAR
