BEGIN:VCALENDAR
PRODID:-//github.com/rianjs/ical.net//NONSGML ical.net 4.0//EN
VERSION:2.0
BEGIN:VTIMEZONE
TZID:Central Standard Time
X-LIC-LOCATION:America/Chicago
BEGIN:STANDARD
DTSTART:20241103T020000
RRULE:FREQ=YEARLY;BYDAY=1SU;BYMONTH=11
TZNAME:CST
TZOFFSETFROM:-0500
TZOFFSETTO:-0600
END:STANDARD
BEGIN:DAYLIGHT
DTSTART:20250309T020000
RRULE:FREQ=YEARLY;BYDAY=2SU;BYMONTH=3
TZNAME:CDT
TZOFFSETFROM:-0600
TZOFFSETTO:-0500
END:DAYLIGHT
END:VTIMEZONE
BEGIN:VEVENT
DESCRIPTION:2026 Annual Meeting by the American Academy of Neurology\n\nTi
 tle: Crafting and Cajal: Be the Artist (Wellness Hub)\n\nAccess URL: http
 s://www.aan.com/msa/Public/Events/GetEventURL/23017\n\nLearn More About T
 his Event: https://www.aan.com/msa/Public/Events/Details/23017
DTEND;TZID=Central Standard Time:20260419T173000
DTSTAMP:20260424T072258Z
DTSTART;TZID=Central Standard Time:20260419T164500
LOCATION:McCormick Place West | W375e Lobby
SEQUENCE:0
SUMMARY:AAN: Crafting and Cajal: Be the Artist (Wellness Hub)
UID:90b159ab-e8f7-4625-a8a4-fdc56809a7f2
END:VEVENT
END:VCALENDAR
