BEGIN:VCALENDAR
PRODID:-//github.com/rianjs/ical.net//NONSGML ical.net 4.0//EN
VERSION:2.0
BEGIN:VTIMEZONE
TZID:Central Standard Time
X-LIC-LOCATION:America/Chicago
BEGIN:STANDARD
DTSTART:20241103T020000
RRULE:FREQ=YEARLY;BYDAY=1SU;BYMONTH=11
TZNAME:CST
TZOFFSETFROM:-0500
TZOFFSETTO:-0600
END:STANDARD
BEGIN:DAYLIGHT
DTSTART:20250309T020000
RRULE:FREQ=YEARLY;BYDAY=2SU;BYMONTH=3
TZNAME:CDT
TZOFFSETFROM:-0600
TZOFFSETTO:-0500
END:DAYLIGHT
END:VTIMEZONE
BEGIN:VEVENT
DESCRIPTION:2026 Annual Meeting by the American Academy of Neurology\n\nTi
 tle: Mid-day Mindfulness: Guided Mindfulness\, Meditation and Visualizati
 on (Wellness Hub)\n\nAccess URL: https://www.aan.com/msa/Public/Events/Ge
 tEventURL/23022\n\nLearn More About This Event: https://www.aan.com/msa/P
 ublic/Events/Details/23022
DTEND;TZID=Central Standard Time:20260420T124500
DTSTAMP:20260424T122210Z
DTSTART;TZID=Central Standard Time:20260420T120000
LOCATION:McCormick Place West | W375e Lobby
SEQUENCE:0
SUMMARY:AAN: Mid-day Mindfulness: Guided Mindfulness\, Meditation and Visu
 alization (Wellness Hub)
UID:87dab376-4162-4e4d-a50a-3efdf6de6407
END:VEVENT
END:VCALENDAR
