BEGIN:VCALENDAR
PRODID:-//github.com/rianjs/ical.net//NONSGML ical.net 4.0//EN
VERSION:2.0
BEGIN:VTIMEZONE
TZID:Central Standard Time
X-LIC-LOCATION:America/Chicago
BEGIN:STANDARD
DTSTART:20241103T020000
RRULE:FREQ=YEARLY;BYDAY=1SU;BYMONTH=11
TZNAME:CST
TZOFFSETFROM:-0500
TZOFFSETTO:-0600
END:STANDARD
BEGIN:DAYLIGHT
DTSTART:20250309T020000
RRULE:FREQ=YEARLY;BYDAY=2SU;BYMONTH=3
TZNAME:CDT
TZOFFSETFROM:-0600
TZOFFSETTO:-0500
END:DAYLIGHT
END:VTIMEZONE
BEGIN:VEVENT
DESCRIPTION:2026 Annual Meeting by the American Academy of Neurology\n\nTi
 tle: Brain Health Care: Leveraging Health Systems as Accelerators of Brai
 n Health Awareness (Brain Health Hub)\n\nAccess URL: https://www.aan.com/
 msa/Public/Events/GetEventURL/23030\n\nLearn More About This Event: https
 ://www.aan.com/msa/Public/Events/Details/23030
DTEND;TZID=Central Standard Time:20260421T123000
DTSTAMP:20260424T122113Z
DTSTART;TZID=Central Standard Time:20260421T114500
LOCATION:McCormick Place West | W375c Lobby
SEQUENCE:0
SUMMARY:AAN: Brain Health Care: Leveraging Health Systems as Accelerators 
 of Brain Health Awareness (Brain Health Hub)
UID:72ade1c9-8493-474e-b256-af2b2090958a
END:VEVENT
END:VCALENDAR
