BEGIN:VCALENDAR
PRODID:-//github.com/rianjs/ical.net//NONSGML ical.net 4.0//EN
VERSION:2.0
BEGIN:VTIMEZONE
TZID:Central Standard Time
X-LIC-LOCATION:America/Chicago
BEGIN:STANDARD
DTSTART:20241103T020000
RRULE:FREQ=YEARLY;BYDAY=1SU;BYMONTH=11
TZNAME:CST
TZOFFSETFROM:-0500
TZOFFSETTO:-0600
END:STANDARD
BEGIN:DAYLIGHT
DTSTART:20250309T020000
RRULE:FREQ=YEARLY;BYDAY=2SU;BYMONTH=3
TZNAME:CDT
TZOFFSETFROM:-0600
TZOFFSETTO:-0500
END:DAYLIGHT
END:VTIMEZONE
BEGIN:VEVENT
DESCRIPTION:2026 Annual Meeting by the American Academy of Neurology\n\nTi
 tle: Section Showcase: No-no to Headaches: Neuro-ophthalmology and Neuro-
 otology in Headache Disorders\n\nAccess URL: https://www.aan.com/msa/Publ
 ic/Events/GetEventURL/23049\n\nLearn More About This Event: https://www.a
 an.com/msa/Public/Events/Details/23049
DTEND;TZID=Central Standard Time:20260420T150000
DTSTAMP:20260424T122214Z
DTSTART;TZID=Central Standard Time:20260420T140000
LOCATION:McCormick Place West | W181c
SEQUENCE:0
SUMMARY:AAN: Section Showcase: No-no to Headaches: Neuro-ophthalmology and
  Neuro-otology in Headache Disorders
UID:5e71e26c-9c81-43da-91e7-15014c217939
END:VEVENT
END:VCALENDAR
