BEGIN:VCALENDAR
PRODID:-//github.com/rianjs/ical.net//NONSGML ical.net 4.0//EN
VERSION:2.0
BEGIN:VTIMEZONE
TZID:Central Standard Time
X-LIC-LOCATION:America/Chicago
BEGIN:STANDARD
DTSTART:20241103T020000
RRULE:FREQ=YEARLY;BYDAY=1SU;BYMONTH=11
TZNAME:CST
TZOFFSETFROM:-0500
TZOFFSETTO:-0600
END:STANDARD
BEGIN:DAYLIGHT
DTSTART:20250309T020000
RRULE:FREQ=YEARLY;BYDAY=2SU;BYMONTH=3
TZNAME:CDT
TZOFFSETFROM:-0600
TZOFFSETTO:-0500
END:DAYLIGHT
END:VTIMEZONE
BEGIN:VEVENT
DESCRIPTION:2026 Annual Meeting by the American Academy of Neurology\n\nTi
 tle: argenx Empa MMN & CIDP Investigator Dinner Event\n\nDescription: To 
 continue communication and collaboration with argenx investigators\n\nLea
 rn More About This Event: https://www.aan.com/msa/Public/Events/Details/2
 3061
DTEND;TZID=Central Standard Time:20260418T200000
DTSTAMP:20260423T154146Z
DTSTART;TZID=Central Standard Time:20260418T180000
LOCATION:Marriott Marquis Chicago | Trigonometry
SEQUENCE:0
SUMMARY:AAN: argenx Empa MMN & CIDP Investigator Dinner Event
UID:682d1a22-005c-424f-b0dc-30e0c141ac50
END:VEVENT
END:VCALENDAR
