BEGIN:VCALENDAR
PRODID:-//github.com/rianjs/ical.net//NONSGML ical.net 4.0//EN
VERSION:2.0
BEGIN:VTIMEZONE
TZID:Central Standard Time
X-LIC-LOCATION:America/Chicago
BEGIN:STANDARD
DTSTART:20241103T020000
RRULE:FREQ=YEARLY;BYDAY=1SU;BYMONTH=11
TZNAME:CST
TZOFFSETFROM:-0500
TZOFFSETTO:-0600
END:STANDARD
BEGIN:DAYLIGHT
DTSTART:20250309T020000
RRULE:FREQ=YEARLY;BYDAY=2SU;BYMONTH=3
TZNAME:CDT
TZOFFSETFROM:-0600
TZOFFSETTO:-0500
END:DAYLIGHT
END:VTIMEZONE
BEGIN:VEVENT
DESCRIPTION:2026 Annual Meeting by the American Academy of Neurology\n\nTi
 tle: Staff Office\n\nDescription: staff office for the week \n\nLearn Mor
 e About This Event: https://www.aan.com/msa/Public/Events/Details/23064
DTEND;TZID=Central Standard Time;VALUE=DATE:20260422
DTSTAMP:20260423T213426Z
DTSTART;TZID=Central Standard Time;VALUE=DATE:20260417
LOCATION:Loews Chicago Hotel | Assigned by hotel
SEQUENCE:0
SUMMARY:AAN: Staff Office
UID:949a24f4-6485-4316-82a3-f36a2b8d68eb
END:VEVENT
END:VCALENDAR
