BEGIN:VCALENDAR
PRODID:-//github.com/rianjs/ical.net//NONSGML ical.net 4.0//EN
VERSION:2.0
BEGIN:VTIMEZONE
TZID:Central Standard Time
X-LIC-LOCATION:America/Chicago
BEGIN:STANDARD
DTSTART:20241103T020000
RRULE:FREQ=YEARLY;BYDAY=1SU;BYMONTH=11
TZNAME:CST
TZOFFSETFROM:-0500
TZOFFSETTO:-0600
END:STANDARD
BEGIN:DAYLIGHT
DTSTART:20250309T020000
RRULE:FREQ=YEARLY;BYDAY=2SU;BYMONTH=3
TZNAME:CDT
TZOFFSETFROM:-0600
TZOFFSETTO:-0500
END:DAYLIGHT
END:VTIMEZONE
BEGIN:VEVENT
DESCRIPTION:2026 Annual Meeting by the American Academy of Neurology\n\nTi
 tle: Dianthus Therapeutics - Standing Meeting Room\n\nDescription: Dianth
 us will host an investigator meeting during AAN 2026 to bring together st
 udy investigators and key stakeholders for updates on ongoing clinical pr
 ograms. The meeting will include program updates\, data discussions\, and
  an opportunity for open dialogue to align on next steps and study execut
 ion.\n\nLearn More About This Event: https://www.aan.com/msa/Public/Event
 s/Details/23065
DTEND;TZID=Central Standard Time:20260421T203000
DTSTAMP:20260424T072303Z
DTSTART;TZID=Central Standard Time:20260421T080000
LOCATION:Marriott Marquis Chicago |  Theater
SEQUENCE:0
SUMMARY:AAN: Dianthus Therapeutics - Standing Meeting Room
UID:23bc762b-a067-4d8c-b590-53c983ac12c3
END:VEVENT
END:VCALENDAR
