BEGIN:VCALENDAR
PRODID:-//github.com/rianjs/ical.net//NONSGML ical.net 4.0//EN
VERSION:2.0
BEGIN:VTIMEZONE
TZID:Central Standard Time
X-LIC-LOCATION:America/Chicago
BEGIN:STANDARD
DTSTART:20241103T020000
RRULE:FREQ=YEARLY;BYDAY=1SU;BYMONTH=11
TZNAME:CST
TZOFFSETFROM:-0500
TZOFFSETTO:-0600
END:STANDARD
BEGIN:DAYLIGHT
DTSTART:20250309T020000
RRULE:FREQ=YEARLY;BYDAY=2SU;BYMONTH=3
TZNAME:CDT
TZOFFSETFROM:-0600
TZOFFSETTO:-0500
END:DAYLIGHT
END:VTIMEZONE
BEGIN:VEVENT
DESCRIPTION:2026 Annual Meeting by the American Academy of Neurology\n\nTi
 tle: Child Neurology Society Board Meeting\n\nDescription: Child Neurolog
 y Society (CNS) 2026 spring board meeting.\n\nLearn More About This Event
 : https://www.aan.com/msa/Public/Events/Details/23066
DTEND;TZID=Central Standard Time:20260420T150000
DTSTAMP:20260424T100002Z
DTSTART;TZID=Central Standard Time:20260420T080000
LOCATION:Marriott Marquis Chicago | Physics
SEQUENCE:0
SUMMARY:AAN: Child Neurology Society Board Meeting
UID:0999191f-f95c-4456-ac5a-4e790378e7f5
END:VEVENT
END:VCALENDAR
