BEGIN:VCALENDAR
PRODID:-//github.com/rianjs/ical.net//NONSGML ical.net 4.0//EN
VERSION:2.0
BEGIN:VTIMEZONE
TZID:Central Standard Time
X-LIC-LOCATION:America/Chicago
BEGIN:STANDARD
DTSTART:20241103T020000
RRULE:FREQ=YEARLY;BYDAY=1SU;BYMONTH=11
TZNAME:CST
TZOFFSETFROM:-0500
TZOFFSETTO:-0600
END:STANDARD
BEGIN:DAYLIGHT
DTSTART:20250309T020000
RRULE:FREQ=YEARLY;BYDAY=2SU;BYMONTH=3
TZNAME:CDT
TZOFFSETFROM:-0600
TZOFFSETTO:-0500
END:DAYLIGHT
END:VTIMEZONE
BEGIN:VEVENT
DESCRIPTION:2026 Annual Meeting by the American Academy of Neurology\n\nTi
 tle: 154 Praxis Offsite Meeting Room 4\n\nDescription: Meeting room reser
 ved for internal team use\n\nLearn More About This Event: https://www.aan
 .com/msa/Public/Events/Details/23067
DTEND;TZID=Central Standard Time;VALUE=DATE:20260420
DTSTAMP:20260424T122210Z
DTSTART;TZID=Central Standard Time;VALUE=DATE:20260419
LOCATION:Marriott Marquis Chicago | Bronzeville
SEQUENCE:0
SUMMARY:AAN: 154 Praxis Offsite Meeting Room 4
UID:7617bf60-c2b2-44c0-bbaf-4e46fd9b0c4d
END:VEVENT
END:VCALENDAR
