BEGIN:VCALENDAR
PRODID:-//github.com/rianjs/ical.net//NONSGML ical.net 4.0//EN
VERSION:2.0
BEGIN:VTIMEZONE
TZID:Central Standard Time
X-LIC-LOCATION:America/Chicago
BEGIN:STANDARD
DTSTART:20241103T020000
RRULE:FREQ=YEARLY;BYDAY=1SU;BYMONTH=11
TZNAME:CST
TZOFFSETFROM:-0500
TZOFFSETTO:-0600
END:STANDARD
BEGIN:DAYLIGHT
DTSTART:20250309T020000
RRULE:FREQ=YEARLY;BYDAY=2SU;BYMONTH=3
TZNAME:CDT
TZOFFSETFROM:-0600
TZOFFSETTO:-0500
END:DAYLIGHT
END:VTIMEZONE
BEGIN:VEVENT
DESCRIPTION:2026 Annual Meeting by the American Academy of Neurology\n\nTi
 tle: 155 Praxis Offsite Meeting Room 5\n\nDescription: For Praxis interna
 l meetings\n\nLearn More About This Event: https://www.aan.com/msa/Public
 /Events/Details/23079
DTEND;TZID=Central Standard Time;VALUE=DATE:20260420
DTSTAMP:20260424T122150Z
DTSTART;TZID=Central Standard Time;VALUE=DATE:20260419
LOCATION:Hilton Garden Inn Chicago McCormick Place | Assigned by hotel
SEQUENCE:0
SUMMARY:AAN: 155 Praxis Offsite Meeting Room 5
UID:e0325d21-15fd-45c6-ba9b-e1a3ceb652f6
END:VEVENT
END:VCALENDAR
