BEGIN:VCALENDAR
PRODID:-//github.com/rianjs/ical.net//NONSGML ical.net 4.0//EN
VERSION:2.0
BEGIN:VTIMEZONE
TZID:Central Standard Time
X-LIC-LOCATION:America/Chicago
BEGIN:STANDARD
DTSTART:20241103T020000
RRULE:FREQ=YEARLY;BYDAY=1SU;BYMONTH=11
TZNAME:CST
TZOFFSETFROM:-0500
TZOFFSETTO:-0600
END:STANDARD
BEGIN:DAYLIGHT
DTSTART:20250309T020000
RRULE:FREQ=YEARLY;BYDAY=2SU;BYMONTH=3
TZNAME:CDT
TZOFFSETFROM:-0600
TZOFFSETTO:-0500
END:DAYLIGHT
END:VTIMEZONE
BEGIN:VEVENT
DESCRIPTION:2026 Annual Meeting by the American Academy of Neurology\n\nTi
 tle: 2026 Penn Alumni Reception\n\nDescription: Penn Neurology Alumni Eve
 nt\n\nLearn More About This Event: https://www.aan.com/msa/Public/Events/
 Details/23097
DTEND;TZID=Central Standard Time:20260420T200000
DTSTAMP:20260424T072259Z
DTSTART;TZID=Central Standard Time:20260420T173000
LOCATION:Marriott Marquis Chicago |  Henry Clarke
SEQUENCE:0
SUMMARY:AAN: 2026 Penn Alumni Reception
UID:058efb93-9623-4d3f-b5d1-c805885a985a
END:VEVENT
END:VCALENDAR
