BEGIN:VCALENDAR
PRODID:-//github.com/rianjs/ical.net//NONSGML ical.net 4.0//EN
VERSION:2.0
BEGIN:VTIMEZONE
TZID:Central Standard Time
X-LIC-LOCATION:America/Chicago
BEGIN:STANDARD
DTSTART:20241103T020000
RRULE:FREQ=YEARLY;BYDAY=1SU;BYMONTH=11
TZNAME:CST
TZOFFSETFROM:-0500
TZOFFSETTO:-0600
END:STANDARD
BEGIN:DAYLIGHT
DTSTART:20250309T020000
RRULE:FREQ=YEARLY;BYDAY=2SU;BYMONTH=3
TZNAME:CDT
TZOFFSETFROM:-0600
TZOFFSETTO:-0500
END:DAYLIGHT
END:VTIMEZONE
BEGIN:VEVENT
DESCRIPTION:2026 Annual Meeting by the American Academy of Neurology\n\nTi
 tle: Fenebrutinib PPMS/Fentrepid Investigators’ Meeting \n\nDescription: 
 Investigator Meeting to discuss the Study evaulating the Efficacy and Saf
 ety of Fenebrutinib Compared With Ocrelizumab in Adult Participants With 
 Primary Progressive Multiple Sclerosis (FENtrepid)\n\nLearn More About Th
 is Event: https://www.aan.com/msa/Public/Events/Details/23101
DTEND;TZID=Central Standard Time:20260422T090000
DTSTAMP:20260424T095659Z
DTSTART;TZID=Central Standard Time:20260422T070000
LOCATION:Marriott Marquis Chicago | Great Lakes AB
SEQUENCE:0
SUMMARY:AAN: Fenebrutinib PPMS/Fentrepid Investigators’ Meeting
UID:9411729d-7809-41a2-ba15-4bc0d0e7eef1
END:VEVENT
END:VCALENDAR
