BEGIN:VCALENDAR
PRODID:-//github.com/rianjs/ical.net//NONSGML ical.net 4.0//EN
VERSION:2.0
BEGIN:VTIMEZONE
TZID:Central Standard Time
X-LIC-LOCATION:America/Chicago
BEGIN:STANDARD
DTSTART:20241103T020000
RRULE:FREQ=YEARLY;BYDAY=1SU;BYMONTH=11
TZNAME:CST
TZOFFSETFROM:-0500
TZOFFSETTO:-0600
END:STANDARD
BEGIN:DAYLIGHT
DTSTART:20250309T020000
RRULE:FREQ=YEARLY;BYDAY=2SU;BYMONTH=3
TZNAME:CDT
TZOFFSETFROM:-0600
TZOFFSETTO:-0500
END:DAYLIGHT
END:VTIMEZONE
BEGIN:VEVENT
DESCRIPTION:2026 Annual Meeting by the American Academy of Neurology\n\nTi
 tle: Astra Zeneca/Alexion Medical Debrief Dinner\n\nDescription: Company 
 Internal attendee debrief meeting\n\nLearn More About This Event: https:/
 /www.aan.com/msa/Public/Events/Details/23124
DTEND;TZID=Central Standard Time:20260419T210000
DTSTAMP:20260424T082523Z
DTSTART;TZID=Central Standard Time:20260419T190000
LOCATION:https://www.aan.com/msa/Public/Events/GetEventURL/23124
SEQUENCE:0
SUMMARY:AAN: Astra Zeneca/Alexion Medical Debrief Dinner
UID:1098fafc-6b1f-4b7d-ac47-8c27e77f3440
END:VEVENT
END:VCALENDAR
