BEGIN:VCALENDAR
PRODID:-//github.com/rianjs/ical.net//NONSGML ical.net 4.0//EN
VERSION:2.0
BEGIN:VTIMEZONE
TZID:Central Standard Time
X-LIC-LOCATION:America/Chicago
BEGIN:STANDARD
DTSTART:20241103T020000
RRULE:FREQ=YEARLY;BYDAY=1SU;BYMONTH=11
TZNAME:CST
TZOFFSETFROM:-0500
TZOFFSETTO:-0600
END:STANDARD
BEGIN:DAYLIGHT
DTSTART:20250309T020000
RRULE:FREQ=YEARLY;BYDAY=2SU;BYMONTH=3
TZNAME:CDT
TZOFFSETFROM:-0600
TZOFFSETTO:-0500
END:DAYLIGHT
END:VTIMEZONE
BEGIN:VEVENT
DESCRIPTION:2026 Annual Meeting by the American Academy of Neurology\n\nTi
 tle: Bridging the Gap: Advancing Precision and Lifespan Neurological Care
  for Individuals with IDD and Rare Pediatric-onset Genetic Conditions (In
  Partnership with the Child Neurology Foundation)\n\nAccess URL: https://
 www.aan.com/msa/Public/Events/GetEventURL/23126\n\nLearn More About This 
 Event: https://www.aan.com/msa/Public/Events/Details/23126
DTEND;TZID=Central Standard Time:20260418T140000
DTSTAMP:20260424T122352Z
DTSTART;TZID=Central Standard Time:20260418T120000
LOCATION:McCormick Place West | W178b
SEQUENCE:0
SUMMARY:AAN: Bridging the Gap: Advancing Precision and Lifespan Neurologic
 al Care for Individuals with IDD and Rare Pediatric-onset Genetic Conditi
 ons (In Partnership with the Child Neurology Foundation)
UID:de78151a-d13f-4d3a-b29d-ec8bf3bab970
END:VEVENT
END:VCALENDAR
