BEGIN:VCALENDAR
PRODID:-//github.com/rianjs/ical.net//NONSGML ical.net 4.0//EN
VERSION:2.0
BEGIN:VTIMEZONE
TZID:Central Standard Time
X-LIC-LOCATION:America/Chicago
BEGIN:STANDARD
DTSTART:20241103T020000
RRULE:FREQ=YEARLY;BYDAY=1SU;BYMONTH=11
TZNAME:CST
TZOFFSETFROM:-0500
TZOFFSETTO:-0600
END:STANDARD
BEGIN:DAYLIGHT
DTSTART:20250309T020000
RRULE:FREQ=YEARLY;BYDAY=2SU;BYMONTH=3
TZNAME:CDT
TZOFFSETFROM:-0600
TZOFFSETTO:-0500
END:DAYLIGHT
END:VTIMEZONE
BEGIN:VEVENT
DESCRIPTION:2026 Annual Meeting by the American Academy of Neurology\n\nTi
 tle: Morning Coffee - Monday\n\nLearn More About This Event: https://www.
 aan.com/msa/Public/Events/Details/23149
DTEND;TZID=Central Standard Time:20260420T091500
DTSTAMP:20260424T081202Z
DTSTART;TZID=Central Standard Time:20260420T084500
LOCATION:McCormick Place West | W375c Lobby
SEQUENCE:0
SUMMARY:AAN: Morning Coffee - Monday
UID:94d387a2-d9ed-4c75-93d3-a2ba5ec248e9
END:VEVENT
END:VCALENDAR
