BEGIN:VCALENDAR
PRODID:-//github.com/rianjs/ical.net//NONSGML ical.net 4.0//EN
VERSION:2.0
BEGIN:VTIMEZONE
TZID:Central Standard Time
X-LIC-LOCATION:America/Chicago
BEGIN:STANDARD
DTSTART:20241103T020000
RRULE:FREQ=YEARLY;BYDAY=1SU;BYMONTH=11
TZNAME:CST
TZOFFSETFROM:-0500
TZOFFSETTO:-0600
END:STANDARD
BEGIN:DAYLIGHT
DTSTART:20250309T020000
RRULE:FREQ=YEARLY;BYDAY=2SU;BYMONTH=3
TZNAME:CDT
TZOFFSETFROM:-0600
TZOFFSETTO:-0500
END:DAYLIGHT
END:VTIMEZONE
BEGIN:VEVENT
DESCRIPTION:2026 Annual Meeting by the American Academy of Neurology\n\nTi
 tle: Afternoon Coffee - Monday\n\nLearn More About This Event: https://ww
 w.aan.com/msa/Public/Events/Details/23154
DTEND;TZID=Central Standard Time:20260420T154500
DTSTAMP:20260423T213657Z
DTSTART;TZID=Central Standard Time:20260420T150000
LOCATION:McCormick Place West | Various
SEQUENCE:0
SUMMARY:AAN: Afternoon Coffee - Monday
UID:801a6617-f65f-4b92-8fcf-a4b6a92b3cdb
END:VEVENT
END:VCALENDAR
