BEGIN:VCALENDAR
PRODID:-//github.com/rianjs/ical.net//NONSGML ical.net 4.0//EN
VERSION:2.0
BEGIN:VTIMEZONE
TZID:Central Standard Time
X-LIC-LOCATION:America/Chicago
BEGIN:STANDARD
DTSTART:20241103T020000
RRULE:FREQ=YEARLY;BYDAY=1SU;BYMONTH=11
TZNAME:CST
TZOFFSETFROM:-0500
TZOFFSETTO:-0600
END:STANDARD
BEGIN:DAYLIGHT
DTSTART:20250309T020000
RRULE:FREQ=YEARLY;BYDAY=2SU;BYMONTH=3
TZNAME:CDT
TZOFFSETFROM:-0600
TZOFFSETTO:-0500
END:DAYLIGHT
END:VTIMEZONE
BEGIN:VEVENT
DESCRIPTION:2026 Annual Meeting by the American Academy of Neurology\n\nTi
 tle: Amneal Advisory Board (Parkinson's)\n\nDescription: Advisory Board M
 eeting with ~10 Neurologists who will be attending the AAN conference \n\
 nLearn More About This Event: https://www.aan.com/msa/Public/Events/Detai
 ls/23164
DTEND;TZID=Central Standard Time:20260417T190000
DTSTAMP:20260424T122117Z
DTSTART;TZID=Central Standard Time:20260417T160000
LOCATION:LondonHouse Chicago | Assigned by hotel
SEQUENCE:0
SUMMARY:AAN: Amneal Advisory Board (Parkinson's)
UID:1f6e3cb8-3eab-44fd-8541-bd9ee17a996e
END:VEVENT
END:VCALENDAR
