BEGIN:VCALENDAR
PRODID:-//github.com/rianjs/ical.net//NONSGML ical.net 4.0//EN
VERSION:2.0
BEGIN:VTIMEZONE
TZID:Central Standard Time
X-LIC-LOCATION:America/Chicago
BEGIN:STANDARD
DTSTART:20241103T020000
RRULE:FREQ=YEARLY;BYDAY=1SU;BYMONTH=11
TZNAME:CST
TZOFFSETFROM:-0500
TZOFFSETTO:-0600
END:STANDARD
BEGIN:DAYLIGHT
DTSTART:20250309T020000
RRULE:FREQ=YEARLY;BYDAY=2SU;BYMONTH=3
TZNAME:CDT
TZOFFSETFROM:-0600
TZOFFSETTO:-0500
END:DAYLIGHT
END:VTIMEZONE
BEGIN:VEVENT
DESCRIPTION:2026 Annual Meeting by the American Academy of Neurology\n\nTi
 tle: American Epilepsy Society Mentoring Reception: Shaping the Future of
  Epilepsy Care.\n\nDescription: Sub-specialty Mentoring Session for Ameri
 can Epilepsy Society. \n\nLearn More About This Event: https://www.aan.co
 m/msa/Public/Events/Details/23167
DTEND;TZID=Central Standard Time:20260419T190000
DTSTAMP:20260424T021817Z
DTSTART;TZID=Central Standard Time:20260419T173000
LOCATION:Marriott Marquis Chicago | Physiology
SEQUENCE:0
SUMMARY:AAN: American Epilepsy Society Mentoring Reception: Shaping the Fu
 ture of Epilepsy Care.
UID:5e8e2853-ea8c-46ec-a894-0a8fa0ea269b
END:VEVENT
END:VCALENDAR
