BEGIN:VCALENDAR
PRODID:-//github.com/rianjs/ical.net//NONSGML ical.net 4.0//EN
VERSION:2.0
BEGIN:VTIMEZONE
TZID:Central Standard Time
X-LIC-LOCATION:America/Chicago
BEGIN:STANDARD
DTSTART:20241103T020000
RRULE:FREQ=YEARLY;BYDAY=1SU;BYMONTH=11
TZNAME:CST
TZOFFSETFROM:-0500
TZOFFSETTO:-0600
END:STANDARD
BEGIN:DAYLIGHT
DTSTART:20250309T020000
RRULE:FREQ=YEARLY;BYDAY=2SU;BYMONTH=3
TZNAME:CDT
TZOFFSETFROM:-0600
TZOFFSETTO:-0500
END:DAYLIGHT
END:VTIMEZONE
BEGIN:VEVENT
DESCRIPTION:2026 Annual Meeting by the American Academy of Neurology\n\nTi
 tle: Journal Decorating: Creative Connection and Contemplation (Wellness 
 Hub)\n\nAccess URL: https://www.aan.com/msa/Public/Events/GetEventURL/231
 69\n\nLearn More About This Event: https://www.aan.com/msa/Public/Events/
 Details/23169
DTEND;TZID=Central Standard Time:20260419T124500
DTSTAMP:20260424T085238Z
DTSTART;TZID=Central Standard Time:20260419T120000
LOCATION:McCormick Place West | W375e Lobby
SEQUENCE:0
SUMMARY:AAN: Journal Decorating: Creative Connection and Contemplation (We
 llness Hub)
UID:a411ab33-d0b9-4aaf-861d-695466d62152
END:VEVENT
END:VCALENDAR
