BEGIN:VCALENDAR
PRODID:-//github.com/rianjs/ical.net//NONSGML ical.net 4.0//EN
VERSION:2.0
BEGIN:VTIMEZONE
TZID:Central Standard Time
X-LIC-LOCATION:America/Chicago
BEGIN:STANDARD
DTSTART:20241103T020000
RRULE:FREQ=YEARLY;BYDAY=1SU;BYMONTH=11
TZNAME:CST
TZOFFSETFROM:-0500
TZOFFSETTO:-0600
END:STANDARD
BEGIN:DAYLIGHT
DTSTART:20250309T020000
RRULE:FREQ=YEARLY;BYDAY=2SU;BYMONTH=3
TZNAME:CDT
TZOFFSETFROM:-0600
TZOFFSETTO:-0500
END:DAYLIGHT
END:VTIMEZONE
BEGIN:VEVENT
DESCRIPTION:2026 Annual Meeting by the American Academy of Neurology\n\nTi
 tle: Conversation Corner: ALZ-NET: Pathway to Collect Real-world Data in 
 Alzheimer's to Improve Patient Care (Research Hub)\n\nAccess URL: https:/
 /www.aan.com/msa/Public/Events/GetEventURL/23170\n\nLearn More About This
  Event: https://www.aan.com/msa/Public/Events/Details/23170
DTEND;TZID=Central Standard Time:20260419T133000
DTSTAMP:20260423T213635Z
DTSTART;TZID=Central Standard Time:20260419T130000
LOCATION:McCormick Place West | W193b
SEQUENCE:0
SUMMARY:AAN: Conversation Corner: ALZ-NET: Pathway to Collect Real-world D
 ata in Alzheimer's to Improve Patient Care (Research Hub)
UID:6f926faf-1888-4887-85ed-9e1982e2fb91
END:VEVENT
END:VCALENDAR
