BEGIN:VCALENDAR
PRODID:-//github.com/rianjs/ical.net//NONSGML ical.net 4.0//EN
VERSION:2.0
BEGIN:VTIMEZONE
TZID:Central Standard Time
X-LIC-LOCATION:America/Chicago
BEGIN:STANDARD
DTSTART:20241103T020000
RRULE:FREQ=YEARLY;BYDAY=1SU;BYMONTH=11
TZNAME:CST
TZOFFSETFROM:-0500
TZOFFSETTO:-0600
END:STANDARD
BEGIN:DAYLIGHT
DTSTART:20250309T020000
RRULE:FREQ=YEARLY;BYDAY=2SU;BYMONTH=3
TZNAME:CDT
TZOFFSETFROM:-0600
TZOFFSETTO:-0500
END:DAYLIGHT
END:VTIMEZONE
BEGIN:VEVENT
DESCRIPTION:2026 Annual Meeting by the American Academy of Neurology\n\nTi
 tle: Novartis CLOU064P12301 (REMASTER) Steering Committee Meeting\n\nDesc
 ription: Steering Committee Meeting\n\nLearn More About This Event: https
 ://www.aan.com/msa/Public/Events/Details/23172
DTEND;TZID=Central Standard Time:20260421T090000
DTSTAMP:20260424T122017Z
DTSTART;TZID=Central Standard Time:20260421T063000
LOCATION:Embassy Suites by Hilton Chicago Downtown Magnificent Mile | Assi
 gned by hotel
SEQUENCE:0
SUMMARY:AAN: Novartis CLOU064P12301 (REMASTER) Steering Committee Meeting
UID:e5488f49-23d0-4907-a014-41c5a2932da6
END:VEVENT
END:VCALENDAR
