BEGIN:VCALENDAR
PRODID:-//github.com/rianjs/ical.net//NONSGML ical.net 4.0//EN
VERSION:2.0
BEGIN:VTIMEZONE
TZID:Central Standard Time
X-LIC-LOCATION:America/Chicago
BEGIN:STANDARD
DTSTART:20241103T020000
RRULE:FREQ=YEARLY;BYDAY=1SU;BYMONTH=11
TZNAME:CST
TZOFFSETFROM:-0500
TZOFFSETTO:-0600
END:STANDARD
BEGIN:DAYLIGHT
DTSTART:20250309T020000
RRULE:FREQ=YEARLY;BYDAY=2SU;BYMONTH=3
TZNAME:CDT
TZOFFSETFROM:-0600
TZOFFSETTO:-0500
END:DAYLIGHT
END:VTIMEZONE
BEGIN:VEVENT
DESCRIPTION:2026 Annual Meeting by the American Academy of Neurology\n\nTi
 tle: CANCELLED Director Mentor Program Lunch\n\nDescription: Celebration 
 lunch for members of the director mentor program. \n\nLearn More About Th
 is Event: https://www.aan.com/msa/Public/Events/Details/23173
DTEND;TZID=Central Standard Time:20260420T130000
DTSTAMP:20260423T214950Z
DTSTART;TZID=Central Standard Time:20260420T120000
LOCATION:https://www.aan.com/msa/Public/Events/GetEventURL/23173
SEQUENCE:0
SUMMARY:AAN: CANCELLED Director Mentor Program Lunch
UID:10746606-e3a2-4bec-b439-a36cecb5c04b
END:VEVENT
END:VCALENDAR
