BEGIN:VCALENDAR
PRODID:-//github.com/rianjs/ical.net//NONSGML ical.net 4.0//EN
VERSION:2.0
BEGIN:VTIMEZONE
TZID:Central Standard Time
X-LIC-LOCATION:America/Chicago
BEGIN:STANDARD
DTSTART:20241103T020000
RRULE:FREQ=YEARLY;BYDAY=1SU;BYMONTH=11
TZNAME:CST
TZOFFSETFROM:-0500
TZOFFSETTO:-0600
END:STANDARD
BEGIN:DAYLIGHT
DTSTART:20250309T020000
RRULE:FREQ=YEARLY;BYDAY=2SU;BYMONTH=3
TZNAME:CDT
TZOFFSETFROM:-0600
TZOFFSETTO:-0500
END:DAYLIGHT
END:VTIMEZONE
BEGIN:VEVENT
DESCRIPTION:2026 Annual Meeting by the American Academy of Neurology\n\nTi
 tle: AAN Futures in Clinical Research\, Parkinson Study Group Mentoring S
 ession\n\nDescription: The goal of this event is to provide a forum for d
 iscussion of methods\, opportunities and obstacles for developing a clini
 cal research career\, and to familiarize the participants with the Parkin
 son Study Group (PSG). The event has an open format\, which allows ample 
 time for PSG mentors and attendees to meet and interact in an intimate en
 vironment. Representatives from the PSG administrative team will also be 
 on hand to answer questions about the organization and becoming more invo
 lved. This event will take place at The Lazy Bird at the Hoxton Hotel.\n\
 nLearn More About This Event: https://www.aan.com/msa/Public/Events/Detai
 ls/23175
DTEND;TZID=Central Standard Time:20260420T200000
DTSTAMP:20260423T213312Z
DTSTART;TZID=Central Standard Time:20260420T180000
LOCATION:https://www.aan.com/msa/Public/Events/GetEventURL/23175
SEQUENCE:0
SUMMARY:AAN: AAN Futures in Clinical Research\, Parkinson Study Group Ment
 oring Session
UID:06f08012-8f80-4861-a6ff-9dfed18ed306
END:VEVENT
END:VCALENDAR
