BEGIN:VCALENDAR
PRODID:-//github.com/rianjs/ical.net//NONSGML ical.net 4.0//EN
VERSION:2.0
BEGIN:VTIMEZONE
TZID:Central Standard Time
X-LIC-LOCATION:America/Chicago
BEGIN:STANDARD
DTSTART:20241103T020000
RRULE:FREQ=YEARLY;BYDAY=1SU;BYMONTH=11
TZNAME:CST
TZOFFSETFROM:-0500
TZOFFSETTO:-0600
END:STANDARD
BEGIN:DAYLIGHT
DTSTART:20250309T020000
RRULE:FREQ=YEARLY;BYDAY=2SU;BYMONTH=3
TZNAME:CDT
TZOFFSETFROM:-0600
TZOFFSETTO:-0500
END:DAYLIGHT
END:VTIMEZONE
BEGIN:VEVENT
DESCRIPTION:2026 Annual Meeting by the American Academy of Neurology\n\nTi
 tle: Roche UK \n\nDescription: This is a private Roche UK affiliate meeti
 ng room for Roche UK colleagues and consultancy staff only \n\nLearn More
  About This Event: https://www.aan.com/msa/Public/Events/Details/23177
DTEND;TZID=Central Standard Time;VALUE=DATE:20260422
DTSTAMP:20260424T122212Z
DTSTART;TZID=Central Standard Time;VALUE=DATE:20260418
LOCATION:https://www.aan.com/msa/Public/Events/GetEventURL/23177
SEQUENCE:0
SUMMARY:AAN: Roche UK
UID:0aaa9732-78b0-400d-bfab-50cbd81290bb
END:VEVENT
END:VCALENDAR
