BEGIN:VCALENDAR
PRODID:-//github.com/rianjs/ical.net//NONSGML ical.net 4.0//EN
VERSION:2.0
BEGIN:VTIMEZONE
TZID:Central Standard Time
X-LIC-LOCATION:America/Chicago
BEGIN:STANDARD
DTSTART:20241103T020000
RRULE:FREQ=YEARLY;BYDAY=1SU;BYMONTH=11
TZNAME:CST
TZOFFSETFROM:-0500
TZOFFSETTO:-0600
END:STANDARD
BEGIN:DAYLIGHT
DTSTART:20250309T020000
RRULE:FREQ=YEARLY;BYDAY=2SU;BYMONTH=3
TZNAME:CDT
TZOFFSETFROM:-0600
TZOFFSETTO:-0500
END:DAYLIGHT
END:VTIMEZONE
BEGIN:VEVENT
DESCRIPTION:2026 Annual Meeting by the American Academy of Neurology\n\nTi
 tle: 158 Praxis Offsite Meeting Room \n\nDescription: Praxis Internal Mee
 ting \n\nLearn More About This Event: https://www.aan.com/msa/Public/Even
 ts/Details/23181
DTEND;TZID=Central Standard Time;VALUE=DATE:20260422
DTSTAMP:20260424T122017Z
DTSTART;TZID=Central Standard Time;VALUE=DATE:20260421
LOCATION:Hilton Garden Inn Chicago McCormick Place | Assigned by hotel
SEQUENCE:0
SUMMARY:AAN: 158 Praxis Offsite Meeting Room
UID:948ae611-947b-4b10-86dc-bc02d568e14b
END:VEVENT
END:VCALENDAR
