BEGIN:VCALENDAR
PRODID:-//github.com/rianjs/ical.net//NONSGML ical.net 4.0//EN
VERSION:2.0
BEGIN:VTIMEZONE
TZID:Central Standard Time
X-LIC-LOCATION:America/Chicago
BEGIN:STANDARD
DTSTART:20241103T020000
RRULE:FREQ=YEARLY;BYDAY=1SU;BYMONTH=11
TZNAME:CST
TZOFFSETFROM:-0500
TZOFFSETTO:-0600
END:STANDARD
BEGIN:DAYLIGHT
DTSTART:20250309T020000
RRULE:FREQ=YEARLY;BYDAY=2SU;BYMONTH=3
TZNAME:CDT
TZOFFSETFROM:-0600
TZOFFSETTO:-0500
END:DAYLIGHT
END:VTIMEZONE
BEGIN:VEVENT
DESCRIPTION:2026 Annual Meeting by the American Academy of Neurology\n\nTi
 tle: UCB Meeting - Breakout Room #2 \n\nDescription: UCB Meeting Breakout
  Room \n\nLearn More About This Event: https://www.aan.com/msa/Public/Eve
 nts/Details/23188
DTEND;TZID=Central Standard Time:20260417T173000
DTSTAMP:20260424T123628Z
DTSTART;TZID=Central Standard Time:20260417T080000
LOCATION:Hyatt Regency Chicago | Assigned by hotel
SEQUENCE:0
SUMMARY:AAN: UCB Meeting - Breakout Room #2
UID:e1123616-72f7-4cdb-9c7e-cfdfd7252aef
END:VEVENT
END:VCALENDAR
