BEGIN:VCALENDAR
PRODID:-//github.com/rianjs/ical.net//NONSGML ical.net 4.0//EN
VERSION:2.0
BEGIN:VTIMEZONE
TZID:Central Standard Time
X-LIC-LOCATION:America/Chicago
BEGIN:STANDARD
DTSTART:20241103T020000
RRULE:FREQ=YEARLY;BYDAY=1SU;BYMONTH=11
TZNAME:CST
TZOFFSETFROM:-0500
TZOFFSETTO:-0600
END:STANDARD
BEGIN:DAYLIGHT
DTSTART:20250309T020000
RRULE:FREQ=YEARLY;BYDAY=2SU;BYMONTH=3
TZNAME:CDT
TZOFFSETFROM:-0600
TZOFFSETTO:-0500
END:DAYLIGHT
END:VTIMEZONE
BEGIN:VEVENT
DESCRIPTION:2026 Annual Meeting by the American Academy of Neurology\n\nTi
 tle: PINS North America Association (Pakistan International Neuroscience 
 Society)\n\nDescription: Networking for US based neurologists\, residents
 /fellows/Med students of Pakistani Origin. This event will take place at 
 110 E 23rd St - Chicago\, IL 60616.\n\nLearn More About This Event: https
 ://www.aan.com/msa/Public/Events/Details/23201
DTEND;TZID=Central Standard Time:20260418T210000
DTSTAMP:20260423T213201Z
DTSTART;TZID=Central Standard Time:20260418T180000
LOCATION:https://www.aan.com/msa/Public/Events/GetEventURL/23201
SEQUENCE:0
SUMMARY:AAN: PINS North America Association (Pakistan International Neuros
 cience Society)
UID:5673f573-f4e3-45f0-a3d2-ef8bd1f389a2
END:VEVENT
END:VCALENDAR
