BEGIN:VCALENDAR
PRODID:-//github.com/rianjs/ical.net//NONSGML ical.net 4.0//EN
VERSION:2.0
BEGIN:VTIMEZONE
TZID:Central Standard Time
X-LIC-LOCATION:America/Chicago
BEGIN:STANDARD
DTSTART:20241103T020000
RRULE:FREQ=YEARLY;BYDAY=1SU;BYMONTH=11
TZNAME:CST
TZOFFSETFROM:-0500
TZOFFSETTO:-0600
END:STANDARD
BEGIN:DAYLIGHT
DTSTART:20250309T020000
RRULE:FREQ=YEARLY;BYDAY=2SU;BYMONTH=3
TZNAME:CDT
TZOFFSETFROM:-0600
TZOFFSETTO:-0500
END:DAYLIGHT
END:VTIMEZONE
BEGIN:VEVENT
DESCRIPTION:2026 Annual Meeting by the American Academy of Neurology\n\nTi
 tle: AAN Reception\n\nDescription: 6-7 Abbvie only  7-9 a mix of Abbvie a
 nd HCP\n\nLearn More About This Event: https://www.aan.com/msa/Public/Eve
 nts/Details/23203
DTEND;TZID=Central Standard Time:20260418T210000
DTSTAMP:20260424T122212Z
DTSTART;TZID=Central Standard Time:20260418T180000
LOCATION:https://www.aan.com/msa/Public/Events/GetEventURL/23203
SEQUENCE:0
SUMMARY:AAN: AAN Reception
UID:4a437993-60cb-4c91-b799-dbc7961c60d5
END:VEVENT
END:VCALENDAR
