BEGIN:VCALENDAR
PRODID:-//github.com/rianjs/ical.net//NONSGML ical.net 4.0//EN
VERSION:2.0
BEGIN:VTIMEZONE
TZID:Central Standard Time
X-LIC-LOCATION:America/Chicago
BEGIN:STANDARD
DTSTART:20241103T020000
RRULE:FREQ=YEARLY;BYDAY=1SU;BYMONTH=11
TZNAME:CST
TZOFFSETFROM:-0500
TZOFFSETTO:-0600
END:STANDARD
BEGIN:DAYLIGHT
DTSTART:20250309T020000
RRULE:FREQ=YEARLY;BYDAY=2SU;BYMONTH=3
TZNAME:CDT
TZOFFSETFROM:-0600
TZOFFSETTO:-0500
END:DAYLIGHT
END:VTIMEZONE
BEGIN:VEVENT
DESCRIPTION:2026 Annual Meeting by the American Academy of Neurology\n\nTi
 tle: Late-breaking Science 1\n\nAccess URL: https://www.aan.com/msa/Publi
 c/Events/GetEventURL/23255\n\nLearn More About This Event: https://www.aa
 n.com/msa/Public/Events/Details/23255
DTEND;TZID=Central Standard Time:20260419T181500
DTSTAMP:20260420T023807Z
DTSTART;TZID=Central Standard Time:20260419T170000
LOCATION:McCormick Place West | W375c
SEQUENCE:0
SUMMARY:AAN: Late-breaking Science 1
UID:7880b279-deae-4b90-9428-441b89585672
END:VEVENT
END:VCALENDAR
