BEGIN:VCALENDAR
PRODID:-//github.com/rianjs/ical.net//NONSGML ical.net 4.0//EN
VERSION:2.0
BEGIN:VTIMEZONE
TZID:Central Standard Time
X-LIC-LOCATION:America/Chicago
BEGIN:STANDARD
DTSTART:20241103T020000
RRULE:FREQ=YEARLY;BYDAY=1SU;BYMONTH=11
TZNAME:CST
TZOFFSETFROM:-0500
TZOFFSETTO:-0600
END:STANDARD
BEGIN:DAYLIGHT
DTSTART:20250309T020000
RRULE:FREQ=YEARLY;BYDAY=2SU;BYMONTH=3
TZNAME:CDT
TZOFFSETFROM:-0600
TZOFFSETTO:-0500
END:DAYLIGHT
END:VTIMEZONE
BEGIN:VEVENT
DESCRIPTION:2026 Annual Meeting by the American Academy of Neurology\n\nTi
 tle: US General Neurology Advisory Board Meeting\n\nDescription: During A
 AN 2026\, we will host a US General Neurology Advisory Board that convene
 s a small group of practicing general neurologists for structured scienti
 fic exchange. The session is designed to gather expert insights on the ev
 olving neurology landscape and emerging data\, with the goal of informing
  future scientific and educational initiatives. This activity will be con
 ducted in a private meeting setting and is invitation-only. \n\nLearn Mor
 e About This Event: https://www.aan.com/msa/Public/Events/Details/23273
DTEND;TZID=Central Standard Time;VALUE=DATE:20260419
DTSTAMP:20260420T090209Z
DTSTART;TZID=Central Standard Time;VALUE=DATE:20260418
LOCATION:theWit Hotel | Assigned by Hotel
SEQUENCE:0
SUMMARY:AAN: US General Neurology Advisory Board Meeting
UID:ac7deb37-c5a5-4541-a330-2d00b846bf33
END:VEVENT
END:VCALENDAR
