BEGIN:VCALENDAR
PRODID:-//github.com/rianjs/ical.net//NONSGML ical.net 4.0//EN
VERSION:2.0
BEGIN:VTIMEZONE
TZID:Central Standard Time
X-LIC-LOCATION:America/Chicago
BEGIN:STANDARD
DTSTART:20241103T020000
RRULE:FREQ=YEARLY;BYDAY=1SU;BYMONTH=11
TZNAME:CST
TZOFFSETFROM:-0500
TZOFFSETTO:-0600
END:STANDARD
BEGIN:DAYLIGHT
DTSTART:20250309T020000
RRULE:FREQ=YEARLY;BYDAY=2SU;BYMONTH=3
TZNAME:CDT
TZOFFSETFROM:-0600
TZOFFSETTO:-0500
END:DAYLIGHT
END:VTIMEZONE
BEGIN:VEVENT
DESCRIPTION:2026 Annual Meeting by the American Academy of Neurology\n\nTi
 tle: Advisory Board AbbVie \n\nDescription: advisory board 20 people  \n\
 nLearn More About This Event: https://www.aan.com/msa/Public/Events/Detai
 ls/23274
DTEND;TZID=Central Standard Time:20260417T180000
DTSTAMP:20260420T091839Z
DTSTART;TZID=Central Standard Time:20260417T080000
LOCATION:Loews Chicago Hotel | Assigned by hotel
SEQUENCE:0
SUMMARY:AAN: Advisory Board AbbVie
UID:5b6e4bce-e269-4527-b816-4c8b87d044ea
END:VEVENT
END:VCALENDAR
