BEGIN:VCALENDAR
PRODID:-//github.com/rianjs/ical.net//NONSGML ical.net 4.0//EN
VERSION:2.0
BEGIN:VTIMEZONE
TZID:Central Standard Time
X-LIC-LOCATION:America/Chicago
BEGIN:STANDARD
DTSTART:20241103T020000
RRULE:FREQ=YEARLY;BYDAY=1SU;BYMONTH=11
TZNAME:CST
TZOFFSETFROM:-0500
TZOFFSETTO:-0600
END:STANDARD
BEGIN:DAYLIGHT
DTSTART:20250309T020000
RRULE:FREQ=YEARLY;BYDAY=2SU;BYMONTH=3
TZNAME:CDT
TZOFFSETFROM:-0600
TZOFFSETTO:-0500
END:DAYLIGHT
END:VTIMEZONE
BEGIN:VEVENT
DESCRIPTION:2026 Annual Meeting by the American Academy of Neurology\n\nTi
 tle: Boston Scientific Meeting\n\nDescription: Meeting/work space for int
 ernal use\n\nLearn More About This Event: https://www.aan.com/msa/Public/
 Events/Details/23302
DTEND;TZID=Central Standard Time;VALUE=DATE:20260421
DTSTAMP:20260419T210003Z
DTSTART;TZID=Central Standard Time;VALUE=DATE:20260420
LOCATION:Hampton Inn Chicago McCormick Place | Assigned by hotel
SEQUENCE:0
SUMMARY:AAN: Boston Scientific Meeting
UID:9ed7c633-37df-4103-a2e8-394f4bf2df45
END:VEVENT
END:VCALENDAR
