BEGIN:VCALENDAR
PRODID:-//github.com/rianjs/ical.net//NONSGML ical.net 4.0//EN
VERSION:2.0
BEGIN:VTIMEZONE
TZID:Central Standard Time
X-LIC-LOCATION:America/Chicago
BEGIN:STANDARD
DTSTART:20241103T020000
RRULE:FREQ=YEARLY;BYDAY=1SU;BYMONTH=11
TZNAME:CST
TZOFFSETFROM:-0500
TZOFFSETTO:-0600
END:STANDARD
BEGIN:DAYLIGHT
DTSTART:20250309T020000
RRULE:FREQ=YEARLY;BYDAY=2SU;BYMONTH=3
TZNAME:CDT
TZOFFSETFROM:-0600
TZOFFSETTO:-0500
END:DAYLIGHT
END:VTIMEZONE
BEGIN:VEVENT
DESCRIPTION:2026 Annual Meeting by the American Academy of Neurology\n\nTi
 tle: Acadia Advisory Board \n\nDescription: Acadia Advisory Ad Board \n\n
 Learn More About This Event: https://www.aan.com/msa/Public/Events/Detail
 s/23304
DTEND;TZID=Central Standard Time:20260419T180000
DTSTAMP:20260419T184750Z
DTSTART;TZID=Central Standard Time:20260419T080000
LOCATION:Marriott Marquis Chicago |  George Pullman
SEQUENCE:0
SUMMARY:AAN: Acadia Advisory Board
UID:a19a58fb-f199-4de4-b024-f7e67c60b653
END:VEVENT
END:VCALENDAR
