BEGIN:VCALENDAR
PRODID:-//github.com/rianjs/ical.net//NONSGML ical.net 4.0//EN
VERSION:2.0
BEGIN:VTIMEZONE
TZID:Central Standard Time
X-LIC-LOCATION:America/Chicago
BEGIN:STANDARD
DTSTART:20241103T020000
RRULE:FREQ=YEARLY;BYDAY=1SU;BYMONTH=11
TZNAME:CST
TZOFFSETFROM:-0500
TZOFFSETTO:-0600
END:STANDARD
BEGIN:DAYLIGHT
DTSTART:20250309T020000
RRULE:FREQ=YEARLY;BYDAY=2SU;BYMONTH=3
TZNAME:CDT
TZOFFSETFROM:-0600
TZOFFSETTO:-0500
END:DAYLIGHT
END:VTIMEZONE
BEGIN:VEVENT
DESCRIPTION:2026 Annual Meeting by the American Academy of Neurology\n\nTi
 tle: HCEA Meetup\n\nDescription: HCEA Social Meetup with open bar and lig
 ht fare.\n\nLearn More About This Event: https://www.aan.com/msa/Public/E
 vents/Details/23305
DTEND;TZID=Central Standard Time:20260419T180000
DTSTAMP:20260419T210011Z
DTSTART;TZID=Central Standard Time:20260419T163000
LOCATION:https://www.aan.com/msa/Public/Events/GetEventURL/23305
SEQUENCE:0
SUMMARY:AAN: HCEA Meetup
UID:b6eee79f-3ceb-4d22-a287-77c9356e6002
END:VEVENT
END:VCALENDAR
