BEGIN:VCALENDAR
PRODID:-//github.com/rianjs/ical.net//NONSGML ical.net 4.0//EN
VERSION:2.0
BEGIN:VTIMEZONE
TZID:Central Standard Time
X-LIC-LOCATION:America/Chicago
BEGIN:STANDARD
DTSTART:20241103T020000
RRULE:FREQ=YEARLY;BYDAY=1SU;BYMONTH=11
TZNAME:CST
TZOFFSETFROM:-0500
TZOFFSETTO:-0600
END:STANDARD
BEGIN:DAYLIGHT
DTSTART:20250309T020000
RRULE:FREQ=YEARLY;BYDAY=2SU;BYMONTH=3
TZNAME:CDT
TZOFFSETFROM:-0600
TZOFFSETTO:-0500
END:DAYLIGHT
END:VTIMEZONE
BEGIN:VEVENT
DESCRIPTION:2026 Annual Meeting by the American Academy of Neurology\n\nTi
 tle: Sleep Evidence Gap Validation Ad-Board\n\nDescription: To gain insig
 hts of our planned SLEEP evidence generation objectives and generation st
 rategy. Consultation with expert external advisors early in our strategic
  process will increase the impact of the evidence that we generate.\n\nLe
 arn More About This Event: https://www.aan.com/msa/Public/Events/Details/
 23308
DTEND;TZID=Central Standard Time:20260419T180000
DTSTAMP:20260423T213749Z
DTSTART;TZID=Central Standard Time:20260419T070000
LOCATION:Marriott Marquis Chicago | Glessner C
SEQUENCE:0
SUMMARY:AAN: Sleep Evidence Gap Validation Ad-Board
UID:6856e497-5f2b-44a3-b62d-83ccf189c52a
END:VEVENT
END:VCALENDAR
