BEGIN:VCALENDAR
PRODID:-//github.com/rianjs/ical.net//NONSGML ical.net 4.0//EN
VERSION:2.0
BEGIN:VTIMEZONE
TZID:Central Standard Time
X-LIC-LOCATION:America/Chicago
BEGIN:STANDARD
DTSTART:20241103T020000
RRULE:FREQ=YEARLY;BYDAY=1SU;BYMONTH=11
TZNAME:CST
TZOFFSETFROM:-0500
TZOFFSETTO:-0600
END:STANDARD
BEGIN:DAYLIGHT
DTSTART:20250309T020000
RRULE:FREQ=YEARLY;BYDAY=2SU;BYMONTH=3
TZNAME:CDT
TZOFFSETFROM:-0600
TZOFFSETTO:-0500
END:DAYLIGHT
END:VTIMEZONE
BEGIN:VEVENT
DESCRIPTION:2026 Annual Meeting by the American Academy of Neurology\n\nTi
 tle: Florbetapir F 18 Live Reader Training by Eli Lilly and Company\n\nAc
 cess URL: https://www.aan.com/msa/Public/Events/GetEventURL/23311\n\nLear
 n More About This Event: https://www.aan.com/msa/Public/Events/Details/23
 311
DTEND;TZID=Central Standard Time:20260421T153000
DTSTAMP:20260424T072304Z
DTSTART;TZID=Central Standard Time:20260421T130000
LOCATION:Marriott Marquis Chicago |  Daniel Burnham
SEQUENCE:0
SUMMARY:AAN: Florbetapir F 18 Live Reader Training by Eli Lilly and Company
UID:b01071e2-0616-4a61-94ee-2b243a01c209
END:VEVENT
END:VCALENDAR
