BEGIN:VCALENDAR
PRODID:-//github.com/rianjs/ical.net//NONSGML ical.net 4.0//EN
VERSION:2.0
BEGIN:VTIMEZONE
TZID:Central Standard Time
X-LIC-LOCATION:America/Chicago
BEGIN:STANDARD
DTSTART:20241103T020000
RRULE:FREQ=YEARLY;BYDAY=1SU;BYMONTH=11
TZNAME:CST
TZOFFSETFROM:-0500
TZOFFSETTO:-0600
END:STANDARD
BEGIN:DAYLIGHT
DTSTART:20250309T020000
RRULE:FREQ=YEARLY;BYDAY=2SU;BYMONTH=3
TZNAME:CDT
TZOFFSETFROM:-0600
TZOFFSETTO:-0500
END:DAYLIGHT
END:VTIMEZONE
BEGIN:VEVENT
DESCRIPTION:2026 Annual Meeting by the American Academy of Neurology\n\nTi
 tle: Bristol-Myers Squibb - Secondary Stroke Prevention US Medical Adviso
 ry Board\n\nDescription: Advisory Board meeting for BMS (Secondary Stroke
  Prevention)\n\nLearn More About This Event: https://www.aan.com/msa/Publ
 ic/Events/Details/23313
DTEND;TZID=Central Standard Time:20260417T220000
DTSTAMP:20260423T213323Z
DTSTART;TZID=Central Standard Time:20260417T060000
LOCATION:https://www.aan.com/msa/Public/Events/GetEventURL/23313
SEQUENCE:0
SUMMARY:AAN: Bristol-Myers Squibb - Secondary Stroke Prevention US Medical
  Advisory Board
UID:bf54fd63-59db-4208-bab8-ab45b3990cbf
END:VEVENT
END:VCALENDAR
